BEGIN:VCALENDAR
VERSION:2.0
PRODID:-//eventon.com NONSGML v1.0//EN
CALSCALE:GREGORIAN
METHOD:PUBLISH
BEGIN:VEVENT
UID:69e787c67bafc
DTSTAMP:20260421T142054Z
DTSTART:20260807T180000Z
DTEND:20260806T220000Z
LOCATION:
SUMMARY:Tribute Band
DESCRIPTION:Als gebruikelijk opent het NZF met een top tribute band\nhttps:
 //noordzeezomerfestival.nl/events/tribute-band/
URL:https://noordzeezomerfestival.nl/events/tribute-band/
END:VEVENT
END:VCALENDAR