BEGIN:VCALENDAR
VERSION:2.0
PRODID:-//eventon.com NONSGML v1.0//EN
CALSCALE:GREGORIAN
METHOD:PUBLISH
BEGIN:VEVENT
UID:69e75aa59148b
DTSTAMP:20260421T110821Z
DTSTART:20260807T120000Z
DTEND:20260807T140000Z
LOCATION:
SUMMARY:Clinic Golfsurfen
DESCRIPTION:Voor de jeugd van 10 – 16 jaar. In samenwerking met Brunotti 
 Surfschool Katwijk. Verzamelen bij de festivaltent inschrijven is niet nodi
 g. Als de zee het surfen niet toelaat\,  kan het zijn dat een alternatief w
 ordt geboden zoals suppen of bodyboarden.\nhttps://noordzeezomerfestival.nl
 /events/clinic-golfsurfen/
URL:https://noordzeezomerfestival.nl/events/clinic-golfsurfen/
END:VEVENT
END:VCALENDAR