BEGIN:VCALENDAR
VERSION:2.0
PRODID:-//eventon.com NONSGML v1.0//EN
CALSCALE:GREGORIAN
METHOD:PUBLISH
BEGIN:VEVENT
UID:69e759531fc77
DTSTAMP:20260421T110243Z
DTSTART:20260806T190000Z
DTEND:20260805T220000Z
LOCATION:
SUMMARY: Kick off
DESCRIPTION:(besloten) Voor genodigden\,  sponsors en vrienden van het NZF.
 De festivaltent wordt omgebouwd tot een fantastische loungeruimte. Muzikale
  omlijsting: verrassing\nhttps://noordzeezomerfestival.nl/events/kick-off/
URL:https://noordzeezomerfestival.nl/events/kick-off/
END:VEVENT
END:VCALENDAR